BEGIN:VCALENDAR
VERSION:2.0
PRODID:-//Associazione Karibu - ECPv6.7.0//NONSGML v1.0//EN
CALSCALE:GREGORIAN
METHOD:PUBLISH
X-WR-CALNAME:Associazione Karibu
X-ORIGINAL-URL:https://www.karibuscorze.it
X-WR-CALDESC:Eventi per Associazione Karibu
REFRESH-INTERVAL;VALUE=DURATION:PT1H
X-Robots-Tag:noindex
X-PUBLISHED-TTL:PT1H
BEGIN:VTIMEZONE
TZID:UTC
BEGIN:STANDARD
TZOFFSETFROM:+0000
TZOFFSETTO:+0000
TZNAME:UTC
DTSTART:20170101T000000
END:STANDARD
END:VTIMEZONE
BEGIN:VEVENT
DTSTART;VALUE=DATE:20191109
DTEND;VALUE=DATE:20191123
DTSTAMP:20260419T154428
CREATED:20191004T080953Z
LAST-MODIFIED:20191026T085303Z
UID:3711-1573257600-1574467199@www.karibuscorze.it
SUMMARY:Karibu in Festa 2019
DESCRIPTION:VENERDI’ 8 NOVEMBRE – h 19:00 – Sala Pax (Via G. Verdi 4\, Peseggia\, fianco Chiesa)\nBALLI POPOLARI e CENA BUFFET condivisa\nCondividiamo la cena portando una pietanza\, meglio se casereccia ed equa-solidale (per info 348 8815398). A seguire ANIMAZIONE e DANZE POPOLARI TRADIZIONALI con l’associazione culturale “Antico Cerchio” (PD) www.anticocerchio.it \nDOMENICA 17 NOVEMBRE – h 17:00 – Teatro Comunale Elios Aldò (Via Cercariolo 42\, Scorzè)\nPomeriggio a teatro con la compagnia teatrale “Acchiappasogni”\n“I TRE MOSCHETTIERI e la maschera di ferro” \nVENERDI’ 22 NOVEMBRE h 20:30 – Sala E. Gatto (Scorzè\, dietro Scuola Primaria G. Marconi)\nSerata d’informazione con Annalisa Camilli\, giornalista di Internazionale\nIncontro dibattito “LA LEGGE DEL MARE – Cronache dei soccorsi nel Mediterraneo tra fake news sulle ONG e sui migranti” \nPrenotazione non necessaria e ingresso libero a tutti gli eventi.\nTutti gli eventi hanno il patrocinio del Comune di Scorzè.
URL:https://www.karibuscorze.it/eventi/karibu-in-festa-2019/
CATEGORIES:KARIBU IN FESTA
ATTACH;FMTTYPE=image/jpeg:https://www.karibuscorze.it/wp-content/uploads/2019/10/banner.jpg
ORGANIZER;CN="Associazione Karibu ONLUS":MAILTO:karibu.scorze@gmail.com
END:VEVENT
BEGIN:VEVENT
DTSTART;VALUE=DATE:20181110
DTEND;VALUE=DATE:20181119
DTSTAMP:20260419T154428
CREATED:20181101T140544Z
LAST-MODIFIED:20181101T140751Z
UID:3470-1541808000-1542585599@www.karibuscorze.it
SUMMARY:KARIBU in FESTA 2018 - "Un soffio di umanità"
DESCRIPTION:Cari amici\, ecco il programma di KARIBU in FESTA – 14^ edizione \n**SABATO 10 NOVEMBRE – Un soffio… di condivisione ** \n*PESEGGIA c/o Sala Pax\nDalle ore 17.00 – Laboratorio di danze popolari aperto a tutti\, a seguire danze e musica live fino a tarda sera.\nOre 19.00 – Cena-buffet condivisa.\nOltre all’allegria e alla voglia di stare assieme condividiamo la cena portando una pietanza\, meglio se casereccia ed equa e solidale (per info: 348 8815398). \n**VENERDI 16 NOVEMBRE – Un soffio… di sana informazione**  \n*Teatro Elios-Aldò\, SCORZE’ – ore 20.30\nIncontro-dibattito “E QUEL GIORNO UCCISERO LA FELICITA” con il giornalista SILVESTRO MONTANARO\nConduce Lisa Clark\, rappresentante italiana di ICAN (Premio Nobel per la Pace 2017) \nLa storia di THOMAS SANKARA e le bugie sull’Africa\, raccontate dal noto giornalista Silvestro Montanaro\, autore per la Rai di “C’era una volta” e conduttore di “Dagli Appennini alle Ande”\, i cui documentari hanno accompagnato diverse campagne in difesa dei diritti umani\, ricevendo in Italia e all’estero numerosi riconoscimenti.\nFamoso il suo documentario “…e quel giorno uccisero la felicità” che ripercorre l’affascinante storia di Thomas Sankara\, presidente eroe del Burkina Faso dal 1983 al 1987: un uomo che ha avuto il coraggio di contrapporsi alle grandi potenze mondiali\, a favore della sua terra e di tutte le nazioni sfruttate dal neocolonialismo fino al punto di pagarne le conseguenze con la vita. \n**DOMENICA 18 NOVEMBRE- Un soffio di… buona musica** \n*Teatro Elios-Aldò\, SCORZE’ – ore 20.30\nConcerto di MUSICA D’AUTORE “NON SOLO DE ANDRE’ ”\nUn viaggio nella canzone d’autore italiana (Guccini\, Dalla\, De Andrè\, ecc.) per ritrovare attraverso nuovi e originali arrangiamenti tutta la profondità dell’impegno e l’illogica allegria.\ncon Tiziano Bellelli (Popinga – Voce\, chitarra\, bauzouki\, sax soprano) e Leonardo Sgavetti (Modena City Ramblers – Pianoforte e fisarmonica) \nOre 22.00 – Estrazione della Lotteria Solidale a favore del progetto KIKORA Street Children in Maralal\nTutte le serate sono ad ingresso libero
URL:https://www.karibuscorze.it/eventi/karibu-in-festa-2018-un-soffio-di-umanita/
CATEGORIES:KARIBU IN FESTA
ORGANIZER;CN="Associazione Karibu ONLUS":MAILTO:karibu.scorze@gmail.com
END:VEVENT
BEGIN:VEVENT
DTSTART;VALUE=DATE:20170623
DTEND;VALUE=DATE:20170626
DTSTAMP:20260419T154428
CREATED:20170228T101951Z
LAST-MODIFIED:20170523T084659Z
UID:1049-1498176000-1498435199@www.karibuscorze.it
SUMMARY:Karibu in Festa 2017
DESCRIPTION:KARIBUinFESTA (FESTA DEI POPOLI)\n23-24-25 GIUGNO 2017\nCampi sportivi parrocchiali\, Scorzè (VE) \n“A CASA NEL MONDO”\n..sono un uomo\, sono nato libero e dove trovo rispetto e accoglienza\, trovo casa.. \n****VENERDI’ 23 ****\n**ore 20:00**\nCena Conviviale ”Sèntate.. e magna!”\nI nostri piatti della tradizione: com’erano e rivisti in chiave moderna. Anche la ricetta più tradizionale può variare\, ogni popolo la prepara a modo suo ma risveglia sempre ricordi ed emozioni. Con questi piatti vogliamo aprire il nostro cuore a tutti i nuovi amici che si siederanno a tavola con noi.\n\nIn collaborazione con il gruppo “ Sei di Scorzè se..” e l’associazione “La Caliera”.\nPrenotazione: 16 € /persona\, vino escluso (acconto: 5 €)\nSconti per gruppi famiglia (almeno 4 persone): 14 € /persona \nInfo e prenotazioni (entro domenica 11 Giugno):\n334 8553662 (Paola)\n340 5754427 (Giuliana)\nOttoaleotto scorzè\, piazza Aldo Moro\, Scorzè\nFACE art bistrot\, via Cercariolo\, Scorzè\nBar Al Redentore Scorzè (da Poldo)\, via Roma\, Scorzè \n**ore 21:30**\n“4 CIACOE CON ERICA” Chiaccherata libera e conviviale con Erica Boschiero\, cantautrice veneta \n****SABATO 24****\nin collaborazione con ANOLF e FAI CISL\n**ore 18:30**\nTavola rotonda “Stranieri e lavoro”. Esperienze di integrazione nel nostro territorio. \n**ore 19:30**\nRUMENOFOLK: esibizione gruppo folcloristico rumeno \n**ore 20:00**\nCENA SOLIDALE a favore di Emergency\nin collab. con Gruppo Emergency Miranese.\nInfo e prenotazioni: karibu.scorze@gmail.com o c/o bottega Karibu – Bottega del Mondo e Associazione Onlus \n**ore 21:30**\nDRUMS FROM SENEGAL\nspettacolo di percussioni e ritmi africani. \n****DOMENICA 25****\n**dalle ore 16:00**\nCALCIO MULTIETNICO (info ed iscrizioni: 366 3921134 – Marco)\nBANCARELLE DEL MONDO\, prodotti tipici\, volontariato\, artigianato\, solidarietà\, etc\nLABORATORI CREATIVI per bambini e bambine \n**ore 19:00**\nNOI in musica\nEsibizione del coro dei bambini dell’oratorio NOI di Scorzè \n**dalle ore 19:30**\nCENA ETNICA ED EQUO SOLIDALE \n**dalle ore 21:00**\nSFILATA DI MODA con vestiti tipici\, colori ed atmosfere dei vari paesi del mondo \nAl termine\, ESTRAZIONE LOTTERIA SOLIDALE a favore del progettoKIKORA Street Children in Maralal\, in collaborazione con AVI Onlus – Associazione Volontariato Insieme di Montebelluna.
URL:https://www.karibuscorze.it/eventi/karibu-festa-2017/
LOCATION:Campi sportivi parrocchiali\, Via dei Soranzo\, Scorzè\, 30037\, Italia
CATEGORIES:Bottega,KARIBU IN FESTA,Onlus - Progetti
ATTACH;FMTTYPE=image/jpeg:https://www.karibuscorze.it/wp-content/uploads/2017/05/01-banner.jpg
ORGANIZER;CN="Associazione Karibu ONLUS":MAILTO:karibu.scorze@gmail.com
END:VEVENT
END:VCALENDAR