BEGIN:VCALENDAR
VERSION:2.0
PRODID:-//Associazione Karibu - ECPv6.7.0//NONSGML v1.0//EN
CALSCALE:GREGORIAN
METHOD:PUBLISH
X-ORIGINAL-URL:https://www.karibuscorze.it
X-WR-CALDESC:Eventi per Associazione Karibu
REFRESH-INTERVAL;VALUE=DURATION:PT1H
X-Robots-Tag:noindex
X-PUBLISHED-TTL:PT1H
BEGIN:VTIMEZONE
TZID:Europe/Rome
BEGIN:DAYLIGHT
TZOFFSETFROM:+0100
TZOFFSETTO:+0200
TZNAME:CEST
DTSTART:20180325T010000
END:DAYLIGHT
BEGIN:STANDARD
TZOFFSETFROM:+0200
TZOFFSETTO:+0100
TZNAME:CET
DTSTART:20181028T010000
END:STANDARD
BEGIN:DAYLIGHT
TZOFFSETFROM:+0100
TZOFFSETTO:+0200
TZNAME:CEST
DTSTART:20190331T010000
END:DAYLIGHT
BEGIN:STANDARD
TZOFFSETFROM:+0200
TZOFFSETTO:+0100
TZNAME:CET
DTSTART:20191027T010000
END:STANDARD
TZID:UTC
BEGIN:STANDARD
TZOFFSETFROM:+0000
TZOFFSETTO:+0000
TZNAME:UTC
DTSTART:20160101T000000
END:STANDARD
END:VTIMEZONE
BEGIN:VEVENT
DTSTART;TZID=Europe/Rome:20190525T204500
DTEND;TZID=Europe/Rome:20190525T230000
DTSTAMP:20260425T032834
CREATED:20190502T062506Z
LAST-MODIFIED:20190502T062549Z
UID:3675-1558817100-1558825200@www.karibuscorze.it
SUMMARY:Kenya\, Uganda e Brasile - Racconti\, immagini\, esperienze
DESCRIPTION:“La terra è un solo paese\, siamo onde dello stesso mare\,\nfoglie dello stesso albero e fiori dello stesso giardino.” \n*Galdino\, Lucia\, Sara e Alessio racconteranno il loro viaggio con l’associazione Karibu in Kenya e Uganda\n*Valdenia Paulino e Renato Lanfranchi\, attivisti per la difesa dei diritti umani\, condivideranno la loro esperienza di vita in favelas a São Paulo (Brasile) \nSABATO 25 MAGGIO 2019 – ore 20:45\nTeatro Elios Aldò – Via Cercariolo 42\, Scorzè (VE)
URL:https://www.karibuscorze.it/eventi/kenya-uganda-e-brasile-racconti-immagini-esperienze/
LOCATION:Teatro Elios\, via Cercariolo 42\, Scorzè\, 30037\, Italia
CATEGORIES:KARIBU IN FESTA,Onlus - Progetti
ATTACH;FMTTYPE=image/jpeg:https://www.karibuscorze.it/wp-content/uploads/2019/05/Locandina_25maggio.jpg
ORGANIZER;CN="Associazione Karibu ONLUS":MAILTO:karibu.scorze@gmail.com
END:VEVENT
BEGIN:VEVENT
DTSTART;TZID=Europe/Rome:20180601T200000
DTEND;TZID=Europe/Rome:20180601T230000
DTSTAMP:20260425T032834
CREATED:20180525T052836Z
LAST-MODIFIED:20180525T052836Z
UID:3458-1527883200-1527894000@www.karibuscorze.it
SUMMARY:"Cena di inizio estate con Karibu" - Casa Milaico - Venerdì 1 GIUGNO
DESCRIPTION:Cari amici\, venerdì 1 giugno ci ritroveremo a Casa Milaico (Nervesa della Battaglia\, TV) per una cena comunitaria\, a partire dalle ore 20:00. Sarà un incontro per incontrare tutti voi che ci sostenete\, e per aggiornarvi sullo stato dei nostri progetti. \nA seguire\, attraverso foto\, video e storie di vita vera\, Giorgia Zanin e famiglia ci racconteranno il loro grande progetto KIKORA che aiuta bambini di strada a Maralal\, in Kenya. Insieme a lei\, Francesco d’Alessi presenterà Chiquito Mundi\, un’impresa sociale online per la cooperazione internazionale. Insieme a noi\, ci saranno anche Chiara e Riccardo\, che tra poco apriranno una nuova casa di accoglienza e per il momento vivono come missionari laici in casa Milaico. \nINFO\nCena con prenotazione obbligatoria.\nPer info\, menu e costi: contattare Lucia (348 881 5398) o Annamaria (377 114 9322) \nIndirizzo: CASA MILAICO\, via del Solstizio 2\, Nervesa della Battaglia (TV)
URL:https://www.karibuscorze.it/eventi/cena-di-inizio-estate-con-karibu-casa-milaico-venerdi-1-giugno/
LOCATION:Casa Milaico\, via del Solstizio\, 2\, Nervesa della Battaglia\, TV\, Italia
CATEGORIES:Bottega,CasaKaribu,KARIBU IN FESTA,Onlus - Progetti
ATTACH;FMTTYPE=image/jpeg:https://www.karibuscorze.it/wp-content/uploads/2018/05/IMG_20160125_101031092.jpg
ORGANIZER;CN="Associazione Karibu ONLUS":MAILTO:karibu.scorze@gmail.com
END:VEVENT
BEGIN:VEVENT
DTSTART;TZID=Europe/Rome:20180413T204500
DTEND;TZID=Europe/Rome:20180413T230000
DTSTAMP:20260425T032834
CREATED:20180315T131700Z
LAST-MODIFIED:20180323T094500Z
UID:3342-1523652300-1523660400@www.karibuscorze.it
SUMMARY:"Come una rondine" - racconti dall'Africa
DESCRIPTION:Come una rondine\n“Un vero viaggio non è cercare nuove terre\, ma avere occhi nuovi” \nTEATRO ELIOS\nVenerdì 13 Aprile 2018\nh 20.45 \nI volontari dell’associazione Karibu raccontano il recente viaggio in Kenya e Uganda\, fatto a Gennaio 2018. \nINGRESSO GRATUITO
URL:https://www.karibuscorze.it/eventi/rondine-racconti-dallafrica/
LOCATION:Teatro Elios\, via Cercariolo 42\, Scorzè\, 30037\, Italia
CATEGORIES:Onlus - Progetti
ORGANIZER;CN="Associazione Karibu ONLUS":MAILTO:karibu.scorze@gmail.com
END:VEVENT
BEGIN:VEVENT
DTSTART;VALUE=DATE:20170623
DTEND;VALUE=DATE:20170626
DTSTAMP:20260425T032834
CREATED:20170228T101951Z
LAST-MODIFIED:20170523T084659Z
UID:1049-1498176000-1498435199@www.karibuscorze.it
SUMMARY:Karibu in Festa 2017
DESCRIPTION:KARIBUinFESTA (FESTA DEI POPOLI)\n23-24-25 GIUGNO 2017\nCampi sportivi parrocchiali\, Scorzè (VE) \n“A CASA NEL MONDO”\n..sono un uomo\, sono nato libero e dove trovo rispetto e accoglienza\, trovo casa.. \n****VENERDI’ 23 ****\n**ore 20:00**\nCena Conviviale ”Sèntate.. e magna!”\nI nostri piatti della tradizione: com’erano e rivisti in chiave moderna. Anche la ricetta più tradizionale può variare\, ogni popolo la prepara a modo suo ma risveglia sempre ricordi ed emozioni. Con questi piatti vogliamo aprire il nostro cuore a tutti i nuovi amici che si siederanno a tavola con noi.\n\nIn collaborazione con il gruppo “ Sei di Scorzè se..” e l’associazione “La Caliera”.\nPrenotazione: 16 € /persona\, vino escluso (acconto: 5 €)\nSconti per gruppi famiglia (almeno 4 persone): 14 € /persona \nInfo e prenotazioni (entro domenica 11 Giugno):\n334 8553662 (Paola)\n340 5754427 (Giuliana)\nOttoaleotto scorzè\, piazza Aldo Moro\, Scorzè\nFACE art bistrot\, via Cercariolo\, Scorzè\nBar Al Redentore Scorzè (da Poldo)\, via Roma\, Scorzè \n**ore 21:30**\n“4 CIACOE CON ERICA” Chiaccherata libera e conviviale con Erica Boschiero\, cantautrice veneta \n****SABATO 24****\nin collaborazione con ANOLF e FAI CISL\n**ore 18:30**\nTavola rotonda “Stranieri e lavoro”. Esperienze di integrazione nel nostro territorio. \n**ore 19:30**\nRUMENOFOLK: esibizione gruppo folcloristico rumeno \n**ore 20:00**\nCENA SOLIDALE a favore di Emergency\nin collab. con Gruppo Emergency Miranese.\nInfo e prenotazioni: karibu.scorze@gmail.com o c/o bottega Karibu – Bottega del Mondo e Associazione Onlus \n**ore 21:30**\nDRUMS FROM SENEGAL\nspettacolo di percussioni e ritmi africani. \n****DOMENICA 25****\n**dalle ore 16:00**\nCALCIO MULTIETNICO (info ed iscrizioni: 366 3921134 – Marco)\nBANCARELLE DEL MONDO\, prodotti tipici\, volontariato\, artigianato\, solidarietà\, etc\nLABORATORI CREATIVI per bambini e bambine \n**ore 19:00**\nNOI in musica\nEsibizione del coro dei bambini dell’oratorio NOI di Scorzè \n**dalle ore 19:30**\nCENA ETNICA ED EQUO SOLIDALE \n**dalle ore 21:00**\nSFILATA DI MODA con vestiti tipici\, colori ed atmosfere dei vari paesi del mondo \nAl termine\, ESTRAZIONE LOTTERIA SOLIDALE a favore del progettoKIKORA Street Children in Maralal\, in collaborazione con AVI Onlus – Associazione Volontariato Insieme di Montebelluna.
URL:https://www.karibuscorze.it/eventi/karibu-festa-2017/
LOCATION:Campi sportivi parrocchiali\, Via dei Soranzo\, Scorzè\, 30037\, Italia
CATEGORIES:Bottega,KARIBU IN FESTA,Onlus - Progetti
ATTACH;FMTTYPE=image/jpeg:https://www.karibuscorze.it/wp-content/uploads/2017/05/01-banner.jpg
ORGANIZER;CN="Associazione Karibu ONLUS":MAILTO:karibu.scorze@gmail.com
END:VEVENT
BEGIN:VEVENT
DTSTART;VALUE=DATE:20161219
DTEND;VALUE=DATE:20161225
DTSTAMP:20260425T032834
CREATED:20161216T120830Z
LAST-MODIFIED:20161216T120830Z
UID:631-1482105600-1482623999@www.karibuscorze.it
SUMMARY:APERTURE STRAORDINARIE BOTTEGA!
DESCRIPTION:APERTURE STRAORDINARIE NATALE 2016 \nPer questo Natale puoi donare qualcosa di davvero speciale e diverso dal solito ad amici e parenti. Fai un regalo equo-solidale\, regalerai cultura\, speranza e giustizia a chi non ha la fortuna di possederle! \nPuoi scegliere\, ad esempio\, di condividere con le persone che ami la gioia di un’adozione scolastica e sosterrai un bambino a scuola in Kenya\, Senegal o Uganda per tutto il 2017\, oppure acquistare ceste-regalo\, alimentari e oggettistica di artigianato nella nostra Bottega del Mondo. In questo modo\, porterai felicità a chi riceverà il tuo dono\, ma anche a chi lo ha prodotto\, garantendogli il giusto salario per sostenere la propria famiglia. Anche tu puoi abbracciare i progetti della nostra associazione\, aiutando i popoli più poveri del mondo a riscattarsi dalla loro situazione e garantirsi\, in autonomia\, un futuro nei Paesi in cui sono nati\, senza dover essere costretti ad allontanarsi dalla propria terra. \nQuest’anno\, a Natale\, regala solidale! \nAuguri dai volontari di Karibu! \nLUNEDI’ 19\, MARTEDI’ 20\, MERCOLEDI’ 21\, GIOVEDI’ 22\, VENERDI’ 23 e SABATO 24 DICEMBRE 2016 saremo aperti dalle 9:00 alle 12:00 e dalle 15:30 alle 19:00! Non prendetevi all’ultimo minuto per i regali di Natale!
URL:https://www.karibuscorze.it/eventi/aperture-straordinarie-bottega/
LOCATION:Bottega “Karibu”\, via Roma 49\, Scorzè\, 30037\, Italia
CATEGORIES:Bottega,Onlus - Progetti
ORGANIZER;CN="Associazione Karibu ONLUS":MAILTO:karibu.scorze@gmail.com
END:VEVENT
END:VCALENDAR